BEGIN:VCALENDAR
VERSION:2.0
PRODID:-//Obst und Gartenbauverein Unterelchingen e.V. - ECPv6.15.20//NONSGML v1.0//EN
CALSCALE:GREGORIAN
METHOD:PUBLISH
X-ORIGINAL-URL:https://www.ogv-unterelchingen.de
X-WR-CALDESC:Veranstaltungen für Obst und Gartenbauverein Unterelchingen e.V.
REFRESH-INTERVAL;VALUE=DURATION:PT1H
X-Robots-Tag:noindex
X-PUBLISHED-TTL:PT1H
BEGIN:VTIMEZONE
TZID:Europe/Berlin
BEGIN:DAYLIGHT
TZOFFSETFROM:+0100
TZOFFSETTO:+0200
TZNAME:CEST
DTSTART:20240331T010000
END:DAYLIGHT
BEGIN:STANDARD
TZOFFSETFROM:+0200
TZOFFSETTO:+0100
TZNAME:CET
DTSTART:20241027T010000
END:STANDARD
BEGIN:DAYLIGHT
TZOFFSETFROM:+0100
TZOFFSETTO:+0200
TZNAME:CEST
DTSTART:20250330T010000
END:DAYLIGHT
BEGIN:STANDARD
TZOFFSETFROM:+0200
TZOFFSETTO:+0100
TZNAME:CET
DTSTART:20251026T010000
END:STANDARD
BEGIN:DAYLIGHT
TZOFFSETFROM:+0100
TZOFFSETTO:+0200
TZNAME:CEST
DTSTART:20260329T010000
END:DAYLIGHT
BEGIN:STANDARD
TZOFFSETFROM:+0200
TZOFFSETTO:+0100
TZNAME:CET
DTSTART:20261025T010000
END:STANDARD
END:VTIMEZONE
BEGIN:VEVENT
DTSTART;TZID=Europe/Berlin:20250315T150000
DTEND;TZID=Europe/Berlin:20250315T170000
DTSTAMP:20260420T170519
CREATED:20250118T201125Z
LAST-MODIFIED:20250118T202518Z
UID:1280-1742050800-1742058000@www.ogv-unterelchingen.de
SUMMARY:Weidenflechtworkshop
DESCRIPTION:mit Sigi Bartsch
URL:https://www.ogv-unterelchingen.de/event/weidenflechtworkshop/
LOCATION:Vereinehaus Unterelchingen\, Hauptstraße 24\, Unterelchingen\, 89275\, Deutschland
END:VEVENT
END:VCALENDAR