BEGIN:VCALENDAR
VERSION:2.0
PRODID:-//Obst und Gartenbauverein Unterelchingen e.V. - ECPv6.15.20//NONSGML v1.0//EN
CALSCALE:GREGORIAN
METHOD:PUBLISH
X-ORIGINAL-URL:https://www.ogv-unterelchingen.de
X-WR-CALDESC:Veranstaltungen für Obst und Gartenbauverein Unterelchingen e.V.
REFRESH-INTERVAL;VALUE=DURATION:PT1H
X-Robots-Tag:noindex
X-PUBLISHED-TTL:PT1H
BEGIN:VTIMEZONE
TZID:Europe/Berlin
BEGIN:DAYLIGHT
TZOFFSETFROM:+0100
TZOFFSETTO:+0200
TZNAME:CEST
DTSTART:20220327T010000
END:DAYLIGHT
BEGIN:STANDARD
TZOFFSETFROM:+0200
TZOFFSETTO:+0100
TZNAME:CET
DTSTART:20221030T010000
END:STANDARD
BEGIN:DAYLIGHT
TZOFFSETFROM:+0100
TZOFFSETTO:+0200
TZNAME:CEST
DTSTART:20230326T010000
END:DAYLIGHT
BEGIN:STANDARD
TZOFFSETFROM:+0200
TZOFFSETTO:+0100
TZNAME:CET
DTSTART:20231029T010000
END:STANDARD
BEGIN:DAYLIGHT
TZOFFSETFROM:+0100
TZOFFSETTO:+0200
TZNAME:CEST
DTSTART:20240331T010000
END:DAYLIGHT
BEGIN:STANDARD
TZOFFSETFROM:+0200
TZOFFSETTO:+0100
TZNAME:CET
DTSTART:20241027T010000
END:STANDARD
END:VTIMEZONE
BEGIN:VEVENT
DTSTART;TZID=Europe/Berlin:20231108T180000
DTEND;TZID=Europe/Berlin:20231108T203000
DTSTAMP:20260423T044000
CREATED:20231018T192324Z
LAST-MODIFIED:20231018T192324Z
UID:938-1699466400-1699475400@www.ogv-unterelchingen.de
SUMMARY:Einladung zur Herbstveranstaltung
DESCRIPTION:Am Mittwoch\, 08. November 2023\, findet um 18.30 Uhr im kleinen Saal der KSV-Halle\, die Herbstveranstaltung des Obst- und Gartenbauvereins Unterelchingen statt. Einlass ist um 18.00 Uhr. Gäste sind herzlich willkommen. Unser diesjähriger Vortrag soll möglichst viele Bürger vor einem Betrug schützen. \n  \nTagesordnung \n\nBegrüßung\nKriminalhauptkommissar Mark Schmid informiert uns über\n\nBetrugsmaschen\, wie sie heute leider immer wieder angewandt werden: \n\nEnkeltrick oder     Callcenter-Anrufe\nKriminelle Telefonanrufe  oder   SMS & WhatsApp-Nachrichten\nEmails\, Internet & Neue Medien\nFalsche Polizeibeamte / Amtsträger oder falsche Bankangestellte\nHaustürgeschäfte oder Dubiose Handwerker\nGlas-Wasser-Trick oder   Schockanrufe\n\nHerr Schmid steht uns nach seinem Vortrag für Fragen zur Verfügung. \n\nGartenzertifizierung „Naturgarten – Bayern blüht“   Wir haben in diesem Jahr für diese Auszeichnung 2 Gärten vorgeschlagen und beide erhalten die Auszeichnung „Naturgarten“     Die Preisträger stellen wir an unserer Versammlung vor.\nBlumentombola\nVerschiedenes\n\n  \nDer Obst- und Gartenbauverein Unterelchingen freut sich auf Ihr Teilnahme. \n  \nVorsitzende \nKarin Batke
URL:https://www.ogv-unterelchingen.de/event/einladung-zur-herbstveranstaltung/
END:VEVENT
END:VCALENDAR